BEGIN:VCALENDAR
VERSION:2.0
PRODID:-// eRoom plugin //NONSGML v1.0//EN
CALSCALE:GREGORIAN
BEGIN:VEVENT
UID:eRoom-1776937174
SUMMARY:Daily Meaning x Tokopedia: Webinar Building Positive Partnership
LOCATION:Zoom
DESCRIPTION:Daily Meaning x Tokopedia: Webinar Building Positive Partnershi
 p is inviting you to a scheduled Zoom meeting.\n\nJoin Zoom Meeting\nhttps
 ://us02web.zoom.us/j/87510813233?pwd=YXRWZ0dlWHRZcW1mb0xCYUIxRzFqQT09\n\nM
 eeting ID: 87510813233\nPasscode: 944072\n
URL;VALUE=URI:https://us02web.zoom.us/j/87510813233?pwd=YXRWZ0dlWHRZcW1mb0xCYUIxRzFqQT09
DTSTART:20210726T020000Z
DTEND:20210726T033000Z
DTSTAMP:20260423T093934Z
BEGIN:VALARM
ACTION:DISPLAY
DESCRIPTION:Reminder
TRIGGER;RELATED=START:-PT15M
END:VALARM
END:VEVENT
END:VCALENDAR